Package: ERSSA Version: 1.27.0 Command: /Library/Frameworks/R.framework/Resources/bin/R CMD INSTALL ERSSA StartedAt: 2025-07-14 15:17:50 -0400 (Mon, 14 Jul 2025) EndedAt: 2025-07-14 15:18:01 -0400 (Mon, 14 Jul 2025) EllapsedTime: 10.9 seconds RetCode: 0 Status: OK