Package: ERSSA Version: 1.27.0 Command: /Library/Frameworks/R.framework/Resources/bin/R CMD check --install=check:ERSSA.install-out.txt --library=/Library/Frameworks/R.framework/Resources/library --no-vignettes --timings ERSSA_1.27.0.tar.gz StartedAt: 2025-07-14 19:11:01 -0400 (Mon, 14 Jul 2025) EndedAt: 2025-07-14 19:12:36 -0400 (Mon, 14 Jul 2025) EllapsedTime: 95.2 seconds RetCode: 0 Status: OK CheckDir: ERSSA.Rcheck Warnings: 0