Package: ENmix Version: 1.45.2 Command: /home/biocbuild/R/R/bin/R CMD INSTALL ENmix StartedAt: 2025-07-21 21:13:37 -0000 (Mon, 21 Jul 2025) EndedAt: 2025-07-21 21:14:44 -0000 (Mon, 21 Jul 2025) EllapsedTime: 67.3 seconds RetCode: 0 Status: OK