Package: ENmix Version: 1.45.3 Command: F:\biocbuild\bbs-3.22-bioc\R\bin\R.exe CMD INSTALL ENmix StartedAt: 2025-07-24 16:58:35 -0400 (Thu, 24 Jul 2025) EndedAt: 2025-07-24 16:59:45 -0400 (Thu, 24 Jul 2025) EllapsedTime: 70.4 seconds RetCode: 0 Status: OK