Package: ENmix Version: 1.45.3 Command: chmod a+r ENmix -R && F:\biocbuild\bbs-3.22-bioc\R\bin\R.exe CMD build --keep-empty-dirs --no-resave-data ENmix StartedAt: 2025-07-24 18:56:48 -0400 (Thu, 24 Jul 2025) EndedAt: 2025-07-24 18:58:09 -0400 (Thu, 24 Jul 2025) EllapsedTime: 80.8 seconds RetCode: 0 Status: OK PackageFile: ENmix_1.45.3.tar.gz PackageFileSize: 20.02 MiB