Package: ENmix Version: 1.45.1 Command: /home/biocbuild/bbs-3.22-bioc/R/bin/R CMD INSTALL ENmix StartedAt: 2025-06-29 15:45:11 -0400 (Sun, 29 Jun 2025) EndedAt: 2025-06-29 15:45:26 -0400 (Sun, 29 Jun 2025) EllapsedTime: 14.9 seconds RetCode: 1 Status: ERROR