############################################################################## ############################################################################## ### ### Running command: ### ### /home/biocbuild/bbs-3.22-bioc/R/bin/R CMD INSTALL ENmix ### ############################################################################## ############################################################################## * installing to library ‘/home/biocbuild/bbs-3.22-bioc/R/site-library’ * installing *source* package ‘ENmix’ ... ** this is package ‘ENmix’ version ‘1.45.1’ ** using staged installation ** R ** inst ** byte-compile and prepare package for lazy loading Error: class "Seqinfo" is not exported by 'namespace:GenomeInfoDb' Execution halted ERROR: lazy loading failed for package ‘ENmix’ * removing ‘/home/biocbuild/bbs-3.22-bioc/R/site-library/ENmix’ * restoring previous ‘/home/biocbuild/bbs-3.22-bioc/R/site-library/ENmix’