Package: ENmix Version: 1.45.0 Command: /home/biocbuild/bbs-3.22-bioc/R/bin/R CMD check --install=check:ENmix.install-out.txt --library=/home/biocbuild/bbs-3.22-bioc/R/site-library --timings ENmix_1.45.0.tar.gz StartedAt: 2025-06-23 22:42:01 -0400 (Mon, 23 Jun 2025) EndedAt: 2025-06-23 22:47:24 -0400 (Mon, 23 Jun 2025) EllapsedTime: 323.3 seconds RetCode: 0 Status: OK CheckDir: ENmix.Rcheck Warnings: 0