Package: ENmix Version: 1.45.1 Command: /home/biocbuild/bbs-3.22-bioc/R/bin/R CMD build --keep-empty-dirs --no-resave-data --md5 ENmix StartedAt: 2025-06-29 17:07:42 -0400 (Sun, 29 Jun 2025) EndedAt: 2025-06-29 17:07:57 -0400 (Sun, 29 Jun 2025) EllapsedTime: 15.0 seconds RetCode: 1 Status: ERROR PackageFile: None PackageFileSize: NA