############################################################################## ############################################################################## ### ### Running command: ### ### /home/biocbuild/bbs-3.22-bioc/R/bin/R CMD build --keep-empty-dirs --no-resave-data --md5 ENmix ### ############################################################################## ############################################################################## * checking for file ‘ENmix/DESCRIPTION’ ... OK * preparing ‘ENmix’: * checking DESCRIPTION meta-information ... OK * installing the package to build vignettes ----------------------------------- * installing *source* package ‘ENmix’ ... ** this is package ‘ENmix’ version ‘1.45.1’ ** using staged installation ** R ** inst ** byte-compile and prepare package for lazy loading Error: class "Seqinfo" is not exported by 'namespace:GenomeInfoDb' Execution halted ERROR: lazy loading failed for package ‘ENmix’ * removing ‘/tmp/RtmpNQzncs/Rinst1e13246ab48663/ENmix’ ----------------------------------- ERROR: package installation failed