Package: EMDomics Version: 2.39.0 Command: /home/biocbuild/R/R/bin/R CMD INSTALL EMDomics StartedAt: 2025-07-10 21:16:43 -0000 (Thu, 10 Jul 2025) EndedAt: 2025-07-10 21:17:05 -0000 (Thu, 10 Jul 2025) EllapsedTime: 21.9 seconds RetCode: 0 Status: OK