Package: EMDomics Version: 2.39.0 Command: /home/biocbuild/R/R/bin/R CMD check --install=check:EMDomics.install-out.txt --library=/home/biocbuild/R/R/site-library --no-vignettes --timings EMDomics_2.39.0.tar.gz StartedAt: 2025-07-11 07:51:01 -0000 (Fri, 11 Jul 2025) EndedAt: 2025-07-11 07:52:32 -0000 (Fri, 11 Jul 2025) EllapsedTime: 91.1 seconds RetCode: 0 Status: OK CheckDir: EMDomics.Rcheck Warnings: 0