Package: EMDomics Version: 2.39.0 Command: F:\biocbuild\bbs-3.22-bioc\R\bin\R.exe CMD check --no-multiarch --install=check:EMDomics.install-out.txt --library=F:\biocbuild\bbs-3.22-bioc\R\library --no-vignettes --timings EMDomics_2.39.0.tar.gz StartedAt: 2025-07-02 01:37:35 -0400 (Wed, 02 Jul 2025) EndedAt: 2025-07-02 01:39:18 -0400 (Wed, 02 Jul 2025) EllapsedTime: 102.9 seconds RetCode: 0 Status: OK CheckDir: EMDomics.Rcheck Warnings: 0