Package: EMDomics Version: 2.39.0 Command: /Library/Frameworks/R.framework/Resources/bin/R CMD build --keep-empty-dirs --no-resave-data EMDomics StartedAt: 2025-07-04 16:41:40 -0400 (Fri, 04 Jul 2025) EndedAt: 2025-07-04 16:41:57 -0400 (Fri, 04 Jul 2025) EllapsedTime: 17.1 seconds RetCode: 0 Status: OK PackageFile: EMDomics_2.39.0.tar.gz PackageFileSize: 334.9 KiB