Package: EMDomics Version: 2.39.0 Command: rm -rf EMDomics.buildbin-libdir && mkdir EMDomics.buildbin-libdir && /Users/biocbuild/BBS/utils/build-universal.sh EMDomics_2.39.0.tar.gz /Library/Frameworks/R.framework/Resources/bin/R EMDomics.buildbin-libdir StartedAt: 2025-07-05 00:44:17 -0400 (Sat, 05 Jul 2025) EndedAt: 2025-07-05 00:44:26 -0400 (Sat, 05 Jul 2025) EllapsedTime: 9.3 seconds RetCode: 0 Status: OK PackageFile: EMDomics_2.39.0.tgz PackageFileSize: 425.8 KiB