Package: EMDomics Version: 2.39.0 Command: /Library/Frameworks/R.framework/Resources/bin/R CMD INSTALL EMDomics StartedAt: 2025-07-01 15:06:26 -0400 (Tue, 01 Jul 2025) EndedAt: 2025-07-01 15:06:29 -0400 (Tue, 01 Jul 2025) EllapsedTime: 3.4 seconds RetCode: 0 Status: OK