Package: EMDomics Version: 2.39.0 Command: /Library/Frameworks/R.framework/Resources/bin/R CMD build --keep-empty-dirs --no-resave-data EMDomics StartedAt: 2025-07-01 16:12:40 -0400 (Tue, 01 Jul 2025) EndedAt: 2025-07-01 16:12:46 -0400 (Tue, 01 Jul 2025) EllapsedTime: 6.1 seconds RetCode: 0 Status: OK PackageFile: EMDomics_2.39.0.tar.gz PackageFileSize: 329.8 KiB