Package: EMDomics Version: 2.39.0 Command: rm -rf EMDomics.buildbin-libdir && mkdir EMDomics.buildbin-libdir && /Users/biocbuild/BBS/utils/build-universal.sh EMDomics_2.39.0.tar.gz /Library/Frameworks/R.framework/Resources/bin/R EMDomics.buildbin-libdir StartedAt: 2025-07-01 22:17:51 -0400 (Tue, 01 Jul 2025) EndedAt: 2025-07-01 22:17:54 -0400 (Tue, 01 Jul 2025) EllapsedTime: 3.1 seconds RetCode: 0 Status: OK PackageFile: EMDomics_2.39.0.tgz PackageFileSize: 420.9 KiB