Package: ELViS Version: 1.1.0 Command: /home/biocbuild/R/R/bin/R CMD check --install=check:ELViS.install-out.txt --library=/home/biocbuild/R/R/site-library --no-vignettes --timings ELViS_1.1.0.tar.gz StartedAt: 2025-05-09 07:10:01 -0000 (Fri, 09 May 2025) EndedAt: 2025-05-09 07:20:06 -0000 (Fri, 09 May 2025) EllapsedTime: 605.0 seconds RetCode: 0 Status: OK CheckDir: ELViS.Rcheck Warnings: 0