Package: ELViS Version: 1.1.6 Command: F:\biocbuild\bbs-3.22-bioc\R\bin\R.exe CMD INSTALL ELViS StartedAt: 2025-07-20 16:09:47 -0400 (Sun, 20 Jul 2025) EndedAt: 2025-07-20 16:10:46 -0400 (Sun, 20 Jul 2025) EllapsedTime: 58.4 seconds RetCode: 0 Status: OK