Package: ELViS Version: 1.1.6 Command: F:\biocbuild\bbs-3.22-bioc\R\bin\R.exe CMD check --no-multiarch --install=check:ELViS.install-out.txt --library=F:\biocbuild\bbs-3.22-bioc\R\library --no-vignettes --timings ELViS_1.1.6.tar.gz StartedAt: 2025-07-22 01:48:14 -0400 (Tue, 22 Jul 2025) EndedAt: 2025-07-22 01:57:43 -0400 (Tue, 22 Jul 2025) EllapsedTime: 569.6 seconds RetCode: 0 Status: OK CheckDir: ELViS.Rcheck Warnings: 0