Package: ELViS Version: 1.1.0 Command: /home/biocbuild/bbs-3.22-bioc/R/bin/R CMD check --install=check:ELViS.install-out.txt --library=/home/biocbuild/bbs-3.22-bioc/R/site-library --timings ELViS_1.1.0.tar.gz StartedAt: 2025-05-08 21:57:30 -0400 (Thu, 08 May 2025) EndedAt: 2025-05-08 22:05:06 -0400 (Thu, 08 May 2025) EllapsedTime: 455.6 seconds RetCode: 0 Status: OK CheckDir: ELViS.Rcheck Warnings: 0