Package: ELViS Version: 1.1.4 Command: /Library/Frameworks/R.framework/Resources/bin/R CMD build --keep-empty-dirs --no-resave-data ELViS StartedAt: 2025-07-01 16:53:40 -0400 (Tue, 01 Jul 2025) EndedAt: 2025-07-01 16:54:40 -0400 (Tue, 01 Jul 2025) EllapsedTime: 59.5 seconds RetCode: 1 Status: ERROR PackageFile: None PackageFileSize: NA