Package: ELViS Version: 1.1.0 Command: rm -rf ELViS.buildbin-libdir && mkdir ELViS.buildbin-libdir && /Users/biocbuild/BBS/utils/build-universal.sh ELViS_1.1.0.tar.gz /Library/Frameworks/R.framework/Resources/bin/R ELViS.buildbin-libdir StartedAt: 2025-05-09 00:42:59 -0400 (Fri, 09 May 2025) EndedAt: 2025-05-09 00:43:59 -0400 (Fri, 09 May 2025) EllapsedTime: 60.1 seconds RetCode: 0 Status: OK PackageFile: ELViS_1.1.0.tgz PackageFileSize: 2.602 MiB