Package: ELMER Version: 2.33.0 Command: /home/biocbuild/R/R/bin/R CMD INSTALL ELMER StartedAt: 2025-07-17 21:06:03 -0000 (Thu, 17 Jul 2025) EndedAt: 2025-07-17 21:07:13 -0000 (Thu, 17 Jul 2025) EllapsedTime: 70.2 seconds RetCode: 0 Status: OK