Package: ELMER Version: 2.33.0 Command: /home/biocbuild/R/R/bin/R CMD build --keep-empty-dirs --no-resave-data ELMER StartedAt: 2025-07-17 23:35:07 -0000 (Thu, 17 Jul 2025) EndedAt: 2025-07-17 23:46:35 -0000 (Thu, 17 Jul 2025) EllapsedTime: 688.3 seconds RetCode: 0 Status: OK PackageFile: ELMER_2.33.0.tar.gz PackageFileSize: 44.56 MiB