Package: ELMER Version: 2.33.0 Command: /Library/Frameworks/R.framework/Resources/bin/R CMD INSTALL ELMER StartedAt: 2025-07-14 15:25:14 -0400 (Mon, 14 Jul 2025) EndedAt: 2025-07-14 15:25:36 -0400 (Mon, 14 Jul 2025) EllapsedTime: 21.8 seconds RetCode: 0 Status: OK