Package: ELMER Version: 2.33.0 Command: /Library/Frameworks/R.framework/Resources/bin/R CMD check --install=check:ELMER.install-out.txt --library=/Library/Frameworks/R.framework/Resources/library --no-vignettes --timings ELMER_2.33.0.tar.gz StartedAt: 2025-07-14 19:05:38 -0400 (Mon, 14 Jul 2025) EndedAt: 2025-07-14 19:11:33 -0400 (Mon, 14 Jul 2025) EllapsedTime: 355.0 seconds RetCode: 1 Status: ERROR CheckDir: ELMER.Rcheck Warnings: NA