############################################################################## ############################################################################## ### ### Running command: ### ### /Library/Frameworks/R.framework/Resources/bin/R CMD check --install=check:ELMER.install-out.txt --library=/Library/Frameworks/R.framework/Resources/library --no-vignettes --timings ELMER_2.33.1.tar.gz ### ############################################################################## ############################################################################## * using log directory ‘/Users/biocbuild/bbs-3.22-bioc/meat/ELMER.Rcheck’ * using R version 4.5.1 Patched (2025-06-14 r88325) * using platform: aarch64-apple-darwin20 * R was compiled by Apple clang version 16.0.0 (clang-1600.0.26.6) GNU Fortran (GCC) 14.2.0 * running under: macOS Ventura 13.7.1 * using session charset: UTF-8 * using option ‘--no-vignettes’ * checking for file ‘ELMER/DESCRIPTION’ ... OK * this is package ‘ELMER’ version ‘2.33.1’ * package encoding: UTF-8 * checking package namespace information ... OK * checking package dependencies ... INFO Imports includes 38 non-default packages. Importing from so many packages makes the package vulnerable to any of them becoming unavailable. Move as many as possible to Suggests and use conditionally. * checking if this is a source package ... OK * checking if there is a namespace ... OK * checking for hidden files and directories ... OK * checking for portable file names ... OK * checking for sufficient/correct file permissions ... OK * checking whether package ‘ELMER’ can be installed ... OK * checking installed package size ... OK * checking package directory ... OK * checking ‘build’ directory ... OK * checking DESCRIPTION meta-information ... OK * checking top-level files ... OK * checking for left-over files ... OK * checking index information ... OK * checking package subdirectories ... OK * checking code files for non-ASCII characters ... OK * checking R files for syntax errors ... OK * checking whether the package can be loaded ... OK * checking whether the package can be loaded with stated dependencies ... OK * checking whether the package can be unloaded cleanly ... OK * checking whether the namespace can be loaded with stated dependencies ... OK * checking whether the namespace can be unloaded cleanly ... OK * checking dependencies in R code ... OK * checking S3 generic/method consistency ... OK * checking replacement functions ... OK * checking foreign function calls ... OK * checking R code for possible problems ... NOTE addMutCol: no visible binding for global variable 'Hugo_Symbol' calcDistNearestTSS: no visible binding for global variable 'DistanceTSS' createBigWigDNAmetArray: no visible global function definition for 'keepStandardChromosomes' createBigWigDNAmetArray: no visible binding for global variable 'keepStandardChromosomes' getRegionNearGenes : f: no visible binding for global variable 'Side' getRegionNearGenes: no visible binding for global variable 'ID' getTFtargets: no visible binding for global variable 'TF' Undefined global functions or variables: DistanceTSS Hugo_Symbol ID Side TF keepStandardChromosomes * checking Rd files ... NOTE checkRd: (-1) createBigWigDNAmetArray.Rd:22: Lost braces; missing escapes or markup? 22 | \item{track.names}{Provide a list of track names (.bw) otherwise the deault is the will be {samples}.bw} | ^ * checking Rd metadata ... OK * checking Rd cross-references ... OK * checking for missing documentation entries ... OK * checking for code/documentation mismatches ... OK * checking Rd \usage sections ... OK * checking Rd contents ... OK * checking for unstated dependencies in examples ... OK * checking files in ‘vignettes’ ... OK * checking examples ... OK Examples with CPU (user + system) or elapsed time > 5s user system elapsed TCGA.pipe 24.587 0.893 26.890 getRandomPairs 11.309 0.534 14.767 createMAE 10.058 0.537 11.154 get.enriched.motif 8.022 0.220 10.570 schematic.plot 7.573 0.196 16.477 scatter.plot 5.148 0.042 7.407 get.feature.probe 4.547 0.220 5.070 preAssociationProbeFiltering 4.175 0.177 5.760 getTCGA 1.144 0.076 9.073 * checking for unstated dependencies in ‘tests’ ... OK * checking tests ... Running ‘testthat.R’ OK * checking for unstated dependencies in vignettes ... OK * checking package vignettes ... OK * checking running R code from vignettes ... SKIPPED * checking re-building of vignette outputs ... SKIPPED * checking PDF version of manual ... OK * DONE Status: 2 NOTEs See ‘/Users/biocbuild/bbs-3.22-bioc/meat/ELMER.Rcheck/00check.log’ for details.