Package: ELMER Version: 2.33.0 Command: /Library/Frameworks/R.framework/Resources/bin/R CMD build --keep-empty-dirs --no-resave-data ELMER StartedAt: 2025-07-14 16:13:12 -0400 (Mon, 14 Jul 2025) EndedAt: 2025-07-14 16:16:23 -0400 (Mon, 14 Jul 2025) EllapsedTime: 191.0 seconds RetCode: 0 Status: OK PackageFile: ELMER_2.33.0.tar.gz PackageFileSize: 43.69 MiB