Package: EGSEA Version: 1.37.0 Command: /Library/Frameworks/R.framework/Resources/bin/R CMD INSTALL EGSEA StartedAt: 2025-10-06 15:30:53 -0400 (Mon, 06 Oct 2025) EndedAt: 2025-10-06 15:31:16 -0400 (Mon, 06 Oct 2025) EllapsedTime: 23.1 seconds RetCode: 0 Status: OK