Package: EGAD Version: 1.37.0 Command: F:\biocbuild\bbs-3.22-bioc\R\bin\R.exe CMD INSTALL EGAD StartedAt: 2025-07-20 16:31:41 -0400 (Sun, 20 Jul 2025) EndedAt: 2025-07-20 16:32:37 -0400 (Sun, 20 Jul 2025) EllapsedTime: 56.6 seconds RetCode: 0 Status: OK