Package: EGAD Version: 1.37.0 Command: F:\biocbuild\bbs-3.22-bioc\R\bin\R.exe CMD check --no-multiarch --install=check:EGAD.install-out.txt --library=F:\biocbuild\bbs-3.22-bioc\R\library --no-vignettes --timings EGAD_1.37.0.tar.gz StartedAt: 2025-07-22 01:46:47 -0400 (Tue, 22 Jul 2025) EndedAt: 2025-07-22 01:50:56 -0400 (Tue, 22 Jul 2025) EllapsedTime: 249.8 seconds RetCode: 0 Status: WARNINGS CheckDir: EGAD.Rcheck Warnings: 1