Package: EGAD Version: 1.37.0 Command: /Library/Frameworks/R.framework/Resources/bin/R CMD check --install=check:EGAD.install-out.txt --library=/Library/Frameworks/R.framework/Resources/library --no-vignettes --timings EGAD_1.37.0.tar.gz StartedAt: 2025-07-22 20:33:55 -0400 (Tue, 22 Jul 2025) EndedAt: 2025-07-22 20:37:40 -0400 (Tue, 22 Jul 2025) EllapsedTime: 225.2 seconds RetCode: 0 Status: WARNINGS CheckDir: EGAD.Rcheck Warnings: 1