Package: EDASeq Version: 2.43.0 Command: F:\biocbuild\bbs-3.22-bioc\R\bin\R.exe CMD INSTALL EDASeq StartedAt: 2025-08-14 16:50:26 -0400 (Thu, 14 Aug 2025) EndedAt: 2025-08-14 16:51:28 -0400 (Thu, 14 Aug 2025) EllapsedTime: 62.2 seconds RetCode: 0 Status: OK