Package: EDASeq Version: 2.43.0 Command: rm -rf EDASeq.buildbin-libdir && mkdir EDASeq.buildbin-libdir && F:\biocbuild\bbs-3.22-bioc\R\bin\R.exe CMD INSTALL --build --library=EDASeq.buildbin-libdir EDASeq_2.43.0.tar.gz StartedAt: 2025-08-15 10:12:14 -0400 (Fri, 15 Aug 2025) EndedAt: 2025-08-15 10:13:38 -0400 (Fri, 15 Aug 2025) EllapsedTime: 83.6 seconds RetCode: 0 Status: OK PackageFile: EDASeq_2.43.0.zip PackageFileSize: 821.3 KiB