Package: EBcoexpress Version: 1.53.0 Command: /home/biocbuild/R/R/bin/R CMD check --install=check:EBcoexpress.install-out.txt --library=/home/biocbuild/R/R/site-library --no-vignettes --timings EBcoexpress_1.53.0.tar.gz StartedAt: 2025-07-22 06:46:20 -0000 (Tue, 22 Jul 2025) EndedAt: 2025-07-22 06:47:05 -0000 (Tue, 22 Jul 2025) EllapsedTime: 45.0 seconds RetCode: 0 Status: WARNINGS CheckDir: EBcoexpress.Rcheck Warnings: 1