Package: EBcoexpress Version: 1.53.0 Command: /Library/Frameworks/R.framework/Resources/bin/R CMD INSTALL EBcoexpress StartedAt: 2025-06-29 15:14:20 -0400 (Sun, 29 Jun 2025) EndedAt: 2025-06-29 15:14:35 -0400 (Sun, 29 Jun 2025) EllapsedTime: 14.8 seconds RetCode: 0 Status: OK