Package: EBcoexpress Version: 1.53.0 Command: /Library/Frameworks/R.framework/Resources/bin/R CMD build --keep-empty-dirs --no-resave-data EBcoexpress StartedAt: 2025-06-29 16:38:14 -0400 (Sun, 29 Jun 2025) EndedAt: 2025-06-29 16:38:48 -0400 (Sun, 29 Jun 2025) EllapsedTime: 34.3 seconds RetCode: 0 Status: OK PackageFile: EBcoexpress_1.53.0.tar.gz PackageFileSize: 2.664 MiB