Package: EBcoexpress Version: 1.53.0 Command: /Library/Frameworks/R.framework/Resources/bin/R CMD INSTALL EBcoexpress StartedAt: 2025-07-11 15:07:02 -0400 (Fri, 11 Jul 2025) EndedAt: 2025-07-11 15:07:05 -0400 (Fri, 11 Jul 2025) EllapsedTime: 2.6 seconds RetCode: 0 Status: OK