Package: EBSeq Version: 2.7.0 Command: /home/biocbuild/R/R/bin/R CMD INSTALL EBSeq StartedAt: 2025-07-07 20:15:46 -0000 (Mon, 07 Jul 2025) EndedAt: 2025-07-07 20:16:46 -0000 (Mon, 07 Jul 2025) EllapsedTime: 60.2 seconds RetCode: 0 Status: OK