Package: EBSeq Version: 2.7.0 Command: /home/biocbuild/R/R/bin/R CMD check --install=check:EBSeq.install-out.txt --library=/home/biocbuild/R/R/site-library --no-vignettes --timings EBSeq_2.7.0.tar.gz StartedAt: 2025-07-08 06:15:44 -0000 (Tue, 08 Jul 2025) EndedAt: 2025-07-08 06:16:46 -0000 (Tue, 08 Jul 2025) EllapsedTime: 62.1 seconds RetCode: 0 Status: WARNINGS CheckDir: EBSeq.Rcheck Warnings: 3