Package: EBSeq Version: 2.7.0 Command: /home/biocbuild/R/R/bin/R CMD build --keep-empty-dirs --no-resave-data EBSeq StartedAt: 2025-07-07 23:15:37 -0000 (Mon, 07 Jul 2025) EndedAt: 2025-07-07 23:15:39 -0000 (Mon, 07 Jul 2025) EllapsedTime: 2.0 seconds RetCode: 0 Status: OK PackageFile: EBSeq_2.7.0.tar.gz PackageFileSize: 1.069 MiB