Package: EBSeq Version: 2.7.0 Command: F:\biocbuild\bbs-3.22-bioc\R\bin\R.exe CMD check --no-multiarch --install=check:EBSeq.install-out.txt --library=F:\biocbuild\bbs-3.22-bioc\R\library --no-vignettes --timings EBSeq_2.7.0.tar.gz StartedAt: 2025-07-18 01:34:41 -0400 (Fri, 18 Jul 2025) EndedAt: 2025-07-18 01:36:22 -0400 (Fri, 18 Jul 2025) EllapsedTime: 100.7 seconds RetCode: 0 Status: WARNINGS CheckDir: EBSeq.Rcheck Warnings: 1