Package: EBSeq Version: 2.7.0 Command: /Library/Frameworks/R.framework/Resources/bin/R CMD check --install=check:EBSeq.install-out.txt --library=/Library/Frameworks/R.framework/Resources/library --no-vignettes --timings EBSeq_2.7.0.tar.gz StartedAt: 2025-07-22 19:07:43 -0400 (Tue, 22 Jul 2025) EndedAt: 2025-07-22 19:08:08 -0400 (Tue, 22 Jul 2025) EllapsedTime: 25.4 seconds RetCode: 0 Status: WARNINGS CheckDir: EBSeq.Rcheck Warnings: 1