Package: EBSEA Version: 1.37.0 Command: /home/biocbuild/R/R/bin/R CMD INSTALL EBSEA StartedAt: 2025-07-21 20:55:10 -0000 (Mon, 21 Jul 2025) EndedAt: 2025-07-21 20:55:39 -0000 (Mon, 21 Jul 2025) EllapsedTime: 29.8 seconds RetCode: 0 Status: OK