Package: EBSEA Version: 1.37.0 Command: /home/biocbuild/R/R/bin/R CMD build --keep-empty-dirs --no-resave-data EBSEA StartedAt: 2025-07-21 23:30:38 -0000 (Mon, 21 Jul 2025) EndedAt: 2025-07-21 23:31:28 -0000 (Mon, 21 Jul 2025) EllapsedTime: 50.0 seconds RetCode: 0 Status: OK PackageFile: EBSEA_1.37.0.tar.gz PackageFileSize: 35.55 KiB