Package: EBSEA Version: 1.37.0 Command: /Library/Frameworks/R.framework/Resources/bin/R CMD INSTALL EBSEA StartedAt: 2025-07-01 15:39:28 -0400 (Tue, 01 Jul 2025) EndedAt: 2025-07-01 15:39:59 -0400 (Tue, 01 Jul 2025) EllapsedTime: 30.7 seconds RetCode: 0 Status: OK