Package: EBSEA Version: 1.37.0 Command: /Library/Frameworks/R.framework/Resources/bin/R CMD check --install=check:EBSEA.install-out.txt --library=/Library/Frameworks/R.framework/Resources/library --no-vignettes --timings EBSEA_1.37.0.tar.gz StartedAt: 2025-07-01 20:33:57 -0400 (Tue, 01 Jul 2025) EndedAt: 2025-07-01 20:37:08 -0400 (Tue, 01 Jul 2025) EllapsedTime: 190.9 seconds RetCode: 0 Status: OK CheckDir: EBSEA.Rcheck Warnings: 0