Package: EBImage Version: 4.51.0 Command: F:\biocbuild\bbs-3.22-bioc\R\bin\R.exe CMD INSTALL EBImage StartedAt: 2025-07-24 15:43:07 -0400 (Thu, 24 Jul 2025) EndedAt: 2025-07-24 15:44:03 -0400 (Thu, 24 Jul 2025) EllapsedTime: 55.8 seconds RetCode: 0 Status: OK